BEGIN:VCALENDAR
VERSION:2.0
PRODID:icalendar-ruby
CALSCALE:GREGORIAN
METHOD:PUBLISH
BEGIN:VEVENT
DTSTAMP:20260421T231025Z
UID:163-7054356@erbf.com
DTSTART:20261018T171500Z
DTEND:20261018T181500Z
CLASS:PUBLIC
CREATED:20260421T133230
DESCRIPTION:Worship Service
LAST-MODIFIED:20260421T133230
LOCATION:Sanctuary
SUMMARY:Worship Service
URL;VALUE=URI:https://www.erbf.com/events/worship-service/2026-10-18
END:VEVENT
END:VCALENDAR
