BEGIN:VCALENDAR
VERSION:2.0
PRODID:icalendar-ruby
CALSCALE:GREGORIAN
METHOD:PUBLISH
BEGIN:VEVENT
DTSTAMP:20260422T021651Z
UID:163-7057422@erbf.com
DTSTART:20261101T181500Z
DTEND:20261101T191500Z
CLASS:PUBLIC
CREATED:20260421T161111
DESCRIPTION:Worship Service
LAST-MODIFIED:20260421T161111
LOCATION:Sanctuary
SUMMARY:Worship Service
URL;VALUE=URI:https://www.erbf.com/events/worship-service/2026-11-01
END:VEVENT
END:VCALENDAR
