BEGIN:VCALENDAR
VERSION:2.0
PRODID:icalendar-ruby
CALSCALE:GREGORIAN
METHOD:PUBLISH
BEGIN:VEVENT
DTSTAMP:20260422T213237Z
UID:663-7069117@erbf.com
DTSTART:20260429T020000Z
DTEND:20260429T040000Z
CLASS:PUBLIC
CREATED:20260422T110334
DESCRIPTION:THIS COMING WEEK\, WE WILL MEET ON TUESDAY\, APRIL 28th\, IN PL
 ACE OF MONDAY!\nThe Young Adults is currently following a Bible study seri
 es called\, The Last Kingdom. \nWe will meet bi-weekly on Mondays from 7:
 00–9:00pm\, running from March 30 through May 25. This is a great opport
 unity to grow deeper in your faith\, build meaningful community\, and enga
 ge in thoughtful discussion together.\nWhether you’ve been part of Young
  Adults for a while or are new to the group\, we’d love to have you join
  us!\nFor more information\, please contact Lisa Unger.
LAST-MODIFIED:20260422T110334
LOCATION:Eagle Ridge Bible Fellowship
SUMMARY:Young Adults Bible Study
URL;VALUE=URI:https://www.erbf.com/events/young-adults-bible-study--663/202
 6-04-28
ATTACH;FILENAME=YA The Last Kingdom BS event3.png;FMTTYPE=image/png:https:/
 /dq5pwpg1q8ru0.cloudfront.net/2026/03/18/18/43/19/29789031-2826-4e33-80eb-
 f63dd9a7c748/YA%20The%20Last%20Kingdom%20BS%20event3.png
END:VEVENT
END:VCALENDAR
